BEGIN:VCALENDAR
VERSION:2.0
PRODID:-//Drupal iCal API//EN
X-WR-TIMEZONE:America/Vancouver
BEGIN:VTIMEZONE
TZID:America/Vancouver
X-LIC-LOCATION:America/Vancouver
BEGIN:DAYLIGHT
TZNAME:PDT
TZOFFSETFROM:-0800
TZOFFSETTO:-0700
DTSTART:20260308T100000
END:DAYLIGHT
BEGIN:DAYLIGHT
TZNAME:PDT
TZOFFSETFROM:-0800
TZOFFSETTO:-0700
DTSTART:20250309T100000
END:DAYLIGHT
BEGIN:STANDARD
TZNAME:PST
TZOFFSETFROM:-0700
TZOFFSETTO:-0800
DTSTART:20251102T090000
END:STANDARD
BEGIN:STANDARD
TZNAME:PST
TZOFFSETFROM:-0700
TZOFFSETTO:-0800
DTSTART:20261101T090000
END:STANDARD
BEGIN:STANDARD
TZNAME:PST
TZOFFSETFROM:-0700
TZOFFSETTO:-0800
DTSTART:20241103T090000
END:STANDARD
END:VTIMEZONE
BEGIN:VEVENT
UID:69ea3b4d70116
DTSTART;VALUE=DATE:20260610
SEQUENCE:0
TRANSP:TRANSPARENT
DTEND;VALUE=DATE:20260611
URL:https://yale.abbyschools.ca/events/indigenous-graduates-ceremony
SUMMARY:INDIGENOUS GRADUATES CEREMONY
CLASS:PUBLIC
X-MICROSOFT-CDO-ALLDAYEVENT:TRUE
DTSTAMP:20260423T153125Z
END:VEVENT
BEGIN:VEVENT
UID:69ea3b4d7831c
DTSTART;TZID=America/Vancouver:20260509T120000
SEQUENCE:0
TRANSP:TRANSPARENT
DTEND;TZID=America/Vancouver:20260509T160000
URL:https://yale.abbyschools.ca/events/yale-horticulture-plant-sale-1
SUMMARY:YALE HORTICULTURE PLANT SALE
CLASS:PUBLIC
DTSTAMP:20260423T153125Z
END:VEVENT
BEGIN:VEVENT
UID:69ea3b4d7a2ff
DTSTART;TZID=America/Vancouver:20260508T120000
SEQUENCE:0
TRANSP:TRANSPARENT
DTEND;TZID=America/Vancouver:20260508T160000
URL:https://yale.abbyschools.ca/events/yale-horticulture-plant-sale-0
SUMMARY:YALE HORTICULTURE PLANT SALE
CLASS:PUBLIC
DTSTAMP:20260423T153125Z
END:VEVENT
BEGIN:VEVENT
UID:69ea3b4d7c0d3
DTSTART;TZID=America/Vancouver:20260507T120000
SEQUENCE:0
TRANSP:TRANSPARENT
DTEND;TZID=America/Vancouver:20260507T160000
URL:https://yale.abbyschools.ca/events/yale-horticulture-plant-sale
SUMMARY:YALE HORTICULTURE PLANT SALE
CLASS:PUBLIC
DTSTAMP:20260423T153125Z
END:VEVENT
BEGIN:VEVENT
UID:69ea3b4d7e21f
DTSTART;VALUE=DATE:20260514
SEQUENCE:0
TRANSP:TRANSPARENT
DTEND;VALUE=DATE:20260515
URL:https://yale.abbyschools.ca/events/canada-day-may-4
SUMMARY:CANADA DAY IN MAY
CLASS:PUBLIC
X-MICROSOFT-CDO-ALLDAYEVENT:TRUE
DTSTAMP:20260423T153125Z
END:VEVENT
BEGIN:VEVENT
UID:69ea3b4d7ff87
DTSTART;TZID=America/Vancouver:20260603T190000
SEQUENCE:0
TRANSP:TRANSPARENT
DTEND;TZID=America/Vancouver:20260603T200000
URL:https://yale.abbyschools.ca/events/year-end-music-concert-5
SUMMARY:YEAR END MUSIC CONCERT
CLASS:PUBLIC
DTSTAMP:20260423T153125Z
END:VEVENT
BEGIN:VEVENT
UID:69ea3b4d81dbd
DTSTART;VALUE=DATE:20261104
SEQUENCE:0
TRANSP:TRANSPARENT
DTEND;VALUE=DATE:20261105
URL:https://yale.abbyschools.ca/events/grad-photos-17
SUMMARY:GRAD PHOTOS
CLASS:PUBLIC
X-MICROSOFT-CDO-ALLDAYEVENT:TRUE
DTSTAMP:20260423T153125Z
END:VEVENT
BEGIN:VEVENT
UID:69ea3b4d84264
DTSTART;VALUE=DATE:20261103
SEQUENCE:0
TRANSP:TRANSPARENT
DTEND;VALUE=DATE:20261104
URL:https://yale.abbyschools.ca/events/grad-photos-16
SUMMARY:GRAD PHOTOS
CLASS:PUBLIC
X-MICROSOFT-CDO-ALLDAYEVENT:TRUE
DTSTAMP:20260423T153125Z
END:VEVENT
BEGIN:VEVENT
UID:69ea3b4d86572
DTSTART;VALUE=DATE:20261102
SEQUENCE:0
TRANSP:TRANSPARENT
DTEND;VALUE=DATE:20261103
URL:https://yale.abbyschools.ca/events/grad-photos-15
SUMMARY:GRAD PHOTOS
CLASS:PUBLIC
X-MICROSOFT-CDO-ALLDAYEVENT:TRUE
DTSTAMP:20260423T153125Z
END:VEVENT
BEGIN:VEVENT
UID:69ea3b4d887f1
DTSTART;VALUE=DATE:20261030
SEQUENCE:0
TRANSP:TRANSPARENT
DTEND;VALUE=DATE:20261031
URL:https://yale.abbyschools.ca/events/grad-photos-14
SUMMARY:GRAD PHOTOS
CLASS:PUBLIC
X-MICROSOFT-CDO-ALLDAYEVENT:TRUE
DTSTAMP:20260423T153125Z
END:VEVENT
BEGIN:VEVENT
UID:69ea3b4d8a512
DTSTART;VALUE=DATE:20261029
SEQUENCE:0
TRANSP:TRANSPARENT
DTEND;VALUE=DATE:20261030
URL:https://yale.abbyschools.ca/events/grad-photos-13
SUMMARY:GRAD PHOTOS
CLASS:PUBLIC
X-MICROSOFT-CDO-ALLDAYEVENT:TRUE
DTSTAMP:20260423T153125Z
END:VEVENT
BEGIN:VEVENT
UID:69ea3b4d8c166
DTSTART;VALUE=DATE:20261028
SEQUENCE:0
TRANSP:TRANSPARENT
DTEND;VALUE=DATE:20261029
URL:https://yale.abbyschools.ca/events/grad-photos-12
SUMMARY:GRAD PHOTOS
CLASS:PUBLIC
X-MICROSOFT-CDO-ALLDAYEVENT:TRUE
DTSTAMP:20260423T153125Z
END:VEVENT
BEGIN:VEVENT
UID:69ea3b4d8e377
DTSTART;VALUE=DATE:20261027
SEQUENCE:0
TRANSP:TRANSPARENT
DTEND;VALUE=DATE:20261028
URL:https://yale.abbyschools.ca/events/grad-photos-11
SUMMARY:GRAD PHOTOS
CLASS:PUBLIC
X-MICROSOFT-CDO-ALLDAYEVENT:TRUE
DTSTAMP:20260423T153125Z
END:VEVENT
BEGIN:VEVENT
UID:69ea3b4d9079f
DTSTART;VALUE=DATE:20261026
SEQUENCE:0
TRANSP:TRANSPARENT
DTEND;VALUE=DATE:20261027
URL:https://yale.abbyschools.ca/events/grad-photos-10
SUMMARY:GRAD PHOTOS
CLASS:PUBLIC
X-MICROSOFT-CDO-ALLDAYEVENT:TRUE
DTSTAMP:20260423T153125Z
END:VEVENT
BEGIN:VEVENT
UID:69ea3b4d92a13
DTSTART;VALUE=DATE:20261210
SEQUENCE:0
TRANSP:TRANSPARENT
DTEND;VALUE=DATE:20261211
URL:https://yale.abbyschools.ca/events/grad-photo-retake-day
SUMMARY:GRAD PHOTO RETAKE DAY
CLASS:PUBLIC
X-MICROSOFT-CDO-ALLDAYEVENT:TRUE
DTSTAMP:20260423T153125Z
END:VEVENT
BEGIN:VEVENT
UID:69ea3b4d94c0d
DTSTART;VALUE=DATE:20261001
SEQUENCE:0
TRANSP:TRANSPARENT
DTEND;VALUE=DATE:20261002
URL:https://yale.abbyschools.ca/events/photo-retake-day-14
SUMMARY:PHOTO RETAKE DAY
CLASS:PUBLIC
X-MICROSOFT-CDO-ALLDAYEVENT:TRUE
DTSTAMP:20260423T153125Z
END:VEVENT
BEGIN:VEVENT
UID:69ea3b4d967a9
DTSTART;VALUE=DATE:20260915
SEQUENCE:0
TRANSP:TRANSPARENT
DTEND;VALUE=DATE:20260916
URL:https://yale.abbyschools.ca/events/photo-day-26
SUMMARY:PHOTO DAY
CLASS:PUBLIC
X-MICROSOFT-CDO-ALLDAYEVENT:TRUE
DTSTAMP:20260423T153125Z
END:VEVENT
BEGIN:VEVENT
UID:69ea3b4d989df
DTSTART;TZID=America/Vancouver:20260402T173000
SEQUENCE:0
TRANSP:TRANSPARENT
DTEND;TZID=America/Vancouver:20260402T183000
URL:https://yale.abbyschools.ca/events/public-budget-information-night
SUMMARY:PUBLIC BUDGET INFORMATION NIGHT
CLASS:PUBLIC
DTSTAMP:20260423T153125Z
END:VEVENT
BEGIN:VEVENT
UID:69ea3b4d9aed9
DTSTART;TZID=America/Vancouver:20260430T183000
SEQUENCE:0
TRANSP:TRANSPARENT
DTEND;TZID=America/Vancouver:20260430T193000
URL:https://yale.abbyschools.ca/events/gr-8-parent-night
SUMMARY:GR. 8 PARENT NIGHT
CLASS:PUBLIC
DTSTAMP:20260423T153125Z
END:VEVENT
BEGIN:VEVENT
UID:69ea3b4d9d2e4
DTSTART;TZID=America/Vancouver:20260623T170000
SEQUENCE:0
TRANSP:TRANSPARENT
DTEND;TZID=America/Vancouver:20260623T200000
URL:https://yale.abbyschools.ca/events/convocation-3
SUMMARY:CONVOCATION
CLASS:PUBLIC
DTSTAMP:20260423T153125Z
END:VEVENT
BEGIN:VEVENT
UID:69ea3b4d9f569
DTSTART;TZID=America/Vancouver:20260227T180000
SEQUENCE:0
TRANSP:TRANSPARENT
DTEND;TZID=America/Vancouver:20260227T235900
URL:https://yale.abbyschools.ca/events/live-give-2026
SUMMARY:LIVE TO GIVE 2026
CLASS:PUBLIC
DTSTAMP:20260423T153125Z
END:VEVENT
BEGIN:VEVENT
UID:69ea3b4da18de
DTSTART;TZID=America/Vancouver:20260511T190000
SEQUENCE:0
TRANSP:TRANSPARENT
DTEND;TZID=America/Vancouver:20260511T210000
URL:https://yale.abbyschools.ca/events/exploring-feel-better-dr-shahana-ali
 bhai
SUMMARY:EXPLORING \"FEEL BETTER\" WITH DR. SHAHANA ALIBHAI
CLASS:PUBLIC
DTSTAMP:20260423T153125Z
END:VEVENT
BEGIN:VEVENT
UID:69ea3b4da3ca9
DTSTART;TZID=America/Vancouver:20260408T183000
SEQUENCE:0
TRANSP:TRANSPARENT
DTEND;TZID=America/Vancouver:20260408T210000
URL:https://yale.abbyschools.ca/events/study-smarter-not-harder-your-brain-
 mind-terry-small
SUMMARY:\"STUDY SMARTER\, NOT HARDER… WITH YOUR BRAIN IN MIND” - TERRY 
 SMALL
CLASS:PUBLIC
DTSTAMP:20260423T153125Z
END:VEVENT
BEGIN:VEVENT
UID:69ea3b4da5804
DTSTART;TZID=America/Vancouver:20260223T190000
SEQUENCE:0
TRANSP:TRANSPARENT
DTEND;TZID=America/Vancouver:20260223T210000
URL:https://yale.abbyschools.ca/events/bullying-new-approach-enduring-probl
 em-deborah-macnamara
SUMMARY:\"BULLYING - A NEW APPROACH TO AN ENDURING PROBLEM\" - DEBORAH MACN
 AMARA
CLASS:PUBLIC
DTSTAMP:20260423T153125Z
END:VEVENT
BEGIN:VEVENT
UID:69ea3b4da7472
DTSTART;VALUE=DATE:20260417
SEQUENCE:0
TRANSP:TRANSPARENT
DTEND;VALUE=DATE:20260418
URL:https://yale.abbyschools.ca/events/learning-enhancement-day-25
SUMMARY:LEARNING ENHANCEMENT DAY
CLASS:PUBLIC
X-MICROSOFT-CDO-ALLDAYEVENT:TRUE
DTSTAMP:20260423T153125Z
END:VEVENT
BEGIN:VEVENT
UID:69ea3b4da9873
DTSTART;VALUE=DATE:20260423
SEQUENCE:0
TRANSP:TRANSPARENT
DTEND;VALUE=DATE:20260424
URL:https://yale.abbyschools.ca/events/q3-learning-summaries-myed
SUMMARY:Q3 LEARNING SUMMARIES ON MYED
CLASS:PUBLIC
X-MICROSOFT-CDO-ALLDAYEVENT:TRUE
DTSTAMP:20260423T153125Z
END:VEVENT
BEGIN:VEVENT
UID:69ea3b4dabd21
DTSTART;VALUE=DATE:20260626
SEQUENCE:0
TRANSP:TRANSPARENT
DTEND;VALUE=DATE:20260627
URL:https://yale.abbyschools.ca/events/last-day-teachers-1
SUMMARY:LAST DAY FOR TEACHERS
CLASS:PUBLIC
X-MICROSOFT-CDO-ALLDAYEVENT:TRUE
DTSTAMP:20260423T153125Z
END:VEVENT
BEGIN:VEVENT
UID:69ea3b4dae5a6
DTSTART;VALUE=DATE:20260625
SEQUENCE:0
TRANSP:TRANSPARENT
DTEND;VALUE=DATE:20260626
URL:https://yale.abbyschools.ca/events/last-day-students-1
SUMMARY:LAST DAY FOR STUDENTS
CLASS:PUBLIC
X-MICROSOFT-CDO-ALLDAYEVENT:TRUE
DTSTAMP:20260423T153125Z
END:VEVENT
BEGIN:VEVENT
UID:69ea3b4db0193
DTSTART;VALUE=DATE:20260316
SEQUENCE:0
TRANSP:TRANSPARENT
DTEND;VALUE=DATE:20260328
URL:https://yale.abbyschools.ca/events/spring-break-4
SUMMARY:SPRING BREAK
CLASS:PUBLIC
X-MICROSOFT-CDO-ALLDAYEVENT:TRUE
DTSTAMP:20260423T153125Z
END:VEVENT
BEGIN:VEVENT
UID:69ea3b4db4381
DTSTART;VALUE=DATE:20260206
SEQUENCE:0
TRANSP:TRANSPARENT
DTEND;VALUE=DATE:20260207
URL:https://yale.abbyschools.ca/events/report-cards-secondary-level-2
SUMMARY:REPORT CARDS - SECONDARY LEVEL
CLASS:PUBLIC
X-MICROSOFT-CDO-ALLDAYEVENT:TRUE
DTSTAMP:20260423T153125Z
END:VEVENT
BEGIN:VEVENT
UID:69ea3b4db5df9
DTSTART;VALUE=DATE:20260626
SEQUENCE:0
TRANSP:TRANSPARENT
DTEND;VALUE=DATE:20260627
URL:https://yale.abbyschools.ca/events/report-cards-secondary-level-2
SUMMARY:REPORT CARDS - SECONDARY LEVEL
CLASS:PUBLIC
X-MICROSOFT-CDO-ALLDAYEVENT:TRUE
DTSTAMP:20260423T153125Z
END:VEVENT
BEGIN:VEVENT
UID:69ea3b4db7bf9
DTSTART;VALUE=DATE:20260515
SEQUENCE:0
TRANSP:TRANSPARENT
DTEND;VALUE=DATE:20260516
URL:https://yale.abbyschools.ca/events/non-instructional-day-17
SUMMARY:NON-INSTRUCTIONAL DAY
CLASS:PUBLIC
X-MICROSOFT-CDO-ALLDAYEVENT:TRUE
DTSTAMP:20260423T153125Z
END:VEVENT
BEGIN:VEVENT
UID:69ea3b4db9adc
DTSTART;VALUE=DATE:20260424
SEQUENCE:0
TRANSP:TRANSPARENT
DTEND;VALUE=DATE:20260425
URL:https://yale.abbyschools.ca/events/non-instructional-day-16
SUMMARY:NON-INSTRUCTIONAL DAY
CLASS:PUBLIC
X-MICROSOFT-CDO-ALLDAYEVENT:TRUE
DTSTAMP:20260423T153125Z
END:VEVENT
BEGIN:VEVENT
UID:69ea3b4dbb389
DTSTART;TZID=America/Vancouver:20250925T190000
SEQUENCE:0
TRANSP:TRANSPARENT
DTEND;TZID=America/Vancouver:20250925T200000
URL:https://yale.abbyschools.ca/events/dpac-meeting-7
SUMMARY:DPAC MEETING
CLASS:PUBLIC
DTSTAMP:20260423T153125Z
END:VEVENT
BEGIN:VEVENT
UID:69ea3b4dbc894
DTSTART;TZID=America/Vancouver:20251023T190000
SEQUENCE:0
TRANSP:TRANSPARENT
DTEND;TZID=America/Vancouver:20251023T190000
URL:https://yale.abbyschools.ca/events/dpac-meeting-7
SUMMARY:DPAC MEETING
CLASS:PUBLIC
DTSTAMP:20260423T153125Z
END:VEVENT
BEGIN:VEVENT
UID:69ea3b4dbdeca
DTSTART;TZID=America/Vancouver:20251127T190000
SEQUENCE:0
TRANSP:TRANSPARENT
DTEND;TZID=America/Vancouver:20251127T190000
URL:https://yale.abbyschools.ca/events/dpac-meeting-7
SUMMARY:DPAC MEETING
CLASS:PUBLIC
DTSTAMP:20260423T153125Z
END:VEVENT
BEGIN:VEVENT
UID:69ea3b4dbffd6
DTSTART;TZID=America/Vancouver:20260122T190000
SEQUENCE:0
TRANSP:TRANSPARENT
DTEND;TZID=America/Vancouver:20260122T200000
URL:https://yale.abbyschools.ca/events/dpac-meeting-7
SUMMARY:DPAC MEETING
CLASS:PUBLIC
DTSTAMP:20260423T153125Z
END:VEVENT
BEGIN:VEVENT
UID:69ea3b4dc2148
DTSTART;TZID=America/Vancouver:20260226T190000
SEQUENCE:0
TRANSP:TRANSPARENT
DTEND;TZID=America/Vancouver:20260226T190000
URL:https://yale.abbyschools.ca/events/dpac-meeting-7
SUMMARY:DPAC MEETING
CLASS:PUBLIC
DTSTAMP:20260423T153125Z
END:VEVENT
BEGIN:VEVENT
UID:69ea3b4dc4227
DTSTART;TZID=America/Vancouver:20260423T190000
SEQUENCE:0
TRANSP:TRANSPARENT
DTEND;TZID=America/Vancouver:20260423T190000
URL:https://yale.abbyschools.ca/events/dpac-meeting-7
SUMMARY:DPAC MEETING
CLASS:PUBLIC
DTSTAMP:20260423T153125Z
END:VEVENT
BEGIN:VEVENT
UID:69ea3b4dc59eb
DTSTART;TZID=America/Vancouver:20260528T190000
SEQUENCE:0
TRANSP:TRANSPARENT
DTEND;TZID=America/Vancouver:20260528T190000
URL:https://yale.abbyschools.ca/events/dpac-meeting-7
SUMMARY:DPAC MEETING
CLASS:PUBLIC
DTSTAMP:20260423T153125Z
END:VEVENT
BEGIN:VEVENT
UID:69ea3b4dc6c3e
DTSTART;TZID=America/Vancouver:20250925T190000
SEQUENCE:0
TRANSP:TRANSPARENT
DTEND;TZID=America/Vancouver:20250925T200000
URL:https://yale.abbyschools.ca/events/dpac-meeting-7
SUMMARY:DPAC MEETING
CLASS:PUBLIC
DTSTAMP:20260423T153125Z
END:VEVENT
BEGIN:VEVENT
UID:69ea3b4dc81a8
DTSTART;TZID=America/Vancouver:20251023T190000
SEQUENCE:0
TRANSP:TRANSPARENT
DTEND;TZID=America/Vancouver:20251023T190000
URL:https://yale.abbyschools.ca/events/dpac-meeting-7
SUMMARY:DPAC MEETING
CLASS:PUBLIC
DTSTAMP:20260423T153125Z
END:VEVENT
BEGIN:VEVENT
UID:69ea3b4dc96f8
DTSTART;TZID=America/Vancouver:20251127T190000
SEQUENCE:0
TRANSP:TRANSPARENT
DTEND;TZID=America/Vancouver:20251127T190000
URL:https://yale.abbyschools.ca/events/dpac-meeting-7
SUMMARY:DPAC MEETING
CLASS:PUBLIC
DTSTAMP:20260423T153125Z
END:VEVENT
BEGIN:VEVENT
UID:69ea3b4dcabf3
DTSTART;TZID=America/Vancouver:20260122T190000
SEQUENCE:0
TRANSP:TRANSPARENT
DTEND;TZID=America/Vancouver:20260122T200000
URL:https://yale.abbyschools.ca/events/dpac-meeting-7
SUMMARY:DPAC MEETING
CLASS:PUBLIC
DTSTAMP:20260423T153125Z
END:VEVENT
BEGIN:VEVENT
UID:69ea3b4dcbdbf
DTSTART;TZID=America/Vancouver:20260226T190000
SEQUENCE:0
TRANSP:TRANSPARENT
DTEND;TZID=America/Vancouver:20260226T190000
URL:https://yale.abbyschools.ca/events/dpac-meeting-7
SUMMARY:DPAC MEETING
CLASS:PUBLIC
DTSTAMP:20260423T153125Z
END:VEVENT
BEGIN:VEVENT
UID:69ea3b4dcd0f6
DTSTART;TZID=America/Vancouver:20260423T190000
SEQUENCE:0
TRANSP:TRANSPARENT
DTEND;TZID=America/Vancouver:20260423T190000
URL:https://yale.abbyschools.ca/events/dpac-meeting-7
SUMMARY:DPAC MEETING
CLASS:PUBLIC
DTSTAMP:20260423T153125Z
END:VEVENT
BEGIN:VEVENT
UID:69ea3b4dce51e
DTSTART;TZID=America/Vancouver:20260528T190000
SEQUENCE:0
TRANSP:TRANSPARENT
DTEND;TZID=America/Vancouver:20260528T190000
URL:https://yale.abbyschools.ca/events/dpac-meeting-7
SUMMARY:DPAC MEETING
CLASS:PUBLIC
DTSTAMP:20260423T153125Z
END:VEVENT
BEGIN:VEVENT
UID:69ea3b4dcfa85
DTSTART;TZID=America/Vancouver:20250925T190000
SEQUENCE:0
TRANSP:TRANSPARENT
DTEND;TZID=America/Vancouver:20250925T200000
URL:https://yale.abbyschools.ca/events/dpac-meeting-7
SUMMARY:DPAC MEETING
CLASS:PUBLIC
DTSTAMP:20260423T153125Z
END:VEVENT
BEGIN:VEVENT
UID:69ea3b4dd0eb0
DTSTART;TZID=America/Vancouver:20251023T190000
SEQUENCE:0
TRANSP:TRANSPARENT
DTEND;TZID=America/Vancouver:20251023T190000
URL:https://yale.abbyschools.ca/events/dpac-meeting-7
SUMMARY:DPAC MEETING
CLASS:PUBLIC
DTSTAMP:20260423T153125Z
END:VEVENT
BEGIN:VEVENT
UID:69ea3b4dd2262
DTSTART;TZID=America/Vancouver:20251127T190000
SEQUENCE:0
TRANSP:TRANSPARENT
DTEND;TZID=America/Vancouver:20251127T190000
URL:https://yale.abbyschools.ca/events/dpac-meeting-7
SUMMARY:DPAC MEETING
CLASS:PUBLIC
DTSTAMP:20260423T153125Z
END:VEVENT
BEGIN:VEVENT
UID:69ea3b4dd34c8
DTSTART;TZID=America/Vancouver:20260122T190000
SEQUENCE:0
TRANSP:TRANSPARENT
DTEND;TZID=America/Vancouver:20260122T200000
URL:https://yale.abbyschools.ca/events/dpac-meeting-7
SUMMARY:DPAC MEETING
CLASS:PUBLIC
DTSTAMP:20260423T153125Z
END:VEVENT
BEGIN:VEVENT
UID:69ea3b4dd47b4
DTSTART;TZID=America/Vancouver:20260226T190000
SEQUENCE:0
TRANSP:TRANSPARENT
DTEND;TZID=America/Vancouver:20260226T190000
URL:https://yale.abbyschools.ca/events/dpac-meeting-7
SUMMARY:DPAC MEETING
CLASS:PUBLIC
DTSTAMP:20260423T153125Z
END:VEVENT
BEGIN:VEVENT
UID:69ea3b4dd599a
DTSTART;TZID=America/Vancouver:20260423T190000
SEQUENCE:0
TRANSP:TRANSPARENT
DTEND;TZID=America/Vancouver:20260423T190000
URL:https://yale.abbyschools.ca/events/dpac-meeting-7
SUMMARY:DPAC MEETING
CLASS:PUBLIC
DTSTAMP:20260423T153125Z
END:VEVENT
BEGIN:VEVENT
UID:69ea3b4dd6b4f
DTSTART;TZID=America/Vancouver:20260528T190000
SEQUENCE:0
TRANSP:TRANSPARENT
DTEND;TZID=America/Vancouver:20260528T190000
URL:https://yale.abbyschools.ca/events/dpac-meeting-7
SUMMARY:DPAC MEETING
CLASS:PUBLIC
DTSTAMP:20260423T153125Z
END:VEVENT
BEGIN:VEVENT
UID:69ea3b4dd7f80
DTSTART;VALUE=DATE:20260518
SEQUENCE:0
TRANSP:TRANSPARENT
DTEND;VALUE=DATE:20260519
URL:https://yale.abbyschools.ca/events/victoria-day-3
SUMMARY:VICTORIA DAY
CLASS:PUBLIC
X-MICROSOFT-CDO-ALLDAYEVENT:TRUE
DTSTAMP:20260423T153125Z
END:VEVENT
BEGIN:VEVENT
UID:69ea3b4dd95a2
DTSTART;VALUE=DATE:20260403
SEQUENCE:0
TRANSP:TRANSPARENT
DTEND;VALUE=DATE:20260407
URL:https://yale.abbyschools.ca/events/easter-weekend
SUMMARY:EASTER WEEKEND
CLASS:PUBLIC
X-MICROSOFT-CDO-ALLDAYEVENT:TRUE
DTSTAMP:20260423T153125Z
END:VEVENT
BEGIN:VEVENT
UID:69ea3b4ddac34
DTSTART;TZID=America/Vancouver:20260620T154500
SEQUENCE:0
TRANSP:TRANSPARENT
DTEND;TZID=America/Vancouver:20260620T223000
URL:https://yale.abbyschools.ca/events/prom-6
SUMMARY:PROM
CLASS:PUBLIC
DTSTAMP:20260423T153125Z
END:VEVENT
BEGIN:VEVENT
UID:69ea3b4ddcfb6
DTSTART;VALUE=DATE:20260619
SEQUENCE:0
TRANSP:TRANSPARENT
DTEND;VALUE=DATE:20260620
URL:https://yale.abbyschools.ca/events/last-day-regular-classes-highschool-
 students-0
SUMMARY:LAST DAY OF REGULAR CLASSES FOR HIGHSCHOOL STUDENTS
CLASS:PUBLIC
X-MICROSOFT-CDO-ALLDAYEVENT:TRUE
DTSTAMP:20260423T153125Z
END:VEVENT
BEGIN:VEVENT
UID:69ea3b4ddf2ad
DTSTART;VALUE=DATE:20260416
SEQUENCE:0
TRANSP:TRANSPARENT
DTEND;VALUE=DATE:20260417
URL:https://yale.abbyschools.ca/events/gr-10-skills-canada-competition
SUMMARY:GR 10 SKILLS CANADA COMPETITION
CLASS:PUBLIC
X-MICROSOFT-CDO-ALLDAYEVENT:TRUE
DTSTAMP:20260423T153125Z
END:VEVENT
BEGIN:VEVENT
UID:69ea3b4de12e3
DTSTART;VALUE=DATE:20260305
SEQUENCE:0
TRANSP:TRANSPARENT
DTEND;VALUE=DATE:20260306
URL:https://yale.abbyschools.ca/events/gr-9-immunizations-those-who-missed
SUMMARY:GR 9 IMMUNIZATIONS FOR THOSE WHO MISSED
CLASS:PUBLIC
X-MICROSOFT-CDO-ALLDAYEVENT:TRUE
DTSTAMP:20260423T153125Z
END:VEVENT
BEGIN:VEVENT
UID:69ea3b4de331d
DTSTART;VALUE=DATE:20260226
SEQUENCE:0
TRANSP:TRANSPARENT
DTEND;VALUE=DATE:20260227
URL:https://yale.abbyschools.ca/events/gr-9-immunizations-0
SUMMARY:GR 9 IMMUNIZATIONS
CLASS:PUBLIC
X-MICROSOFT-CDO-ALLDAYEVENT:TRUE
DTSTAMP:20260423T153125Z
END:VEVENT
BEGIN:VEVENT
UID:69ea3b4de540c
DTSTART;VALUE=DATE:20260225
SEQUENCE:0
TRANSP:TRANSPARENT
DTEND;VALUE=DATE:20260226
URL:https://yale.abbyschools.ca/events/pink-shirt-day-31
SUMMARY:PINK SHIRT DAY
CLASS:PUBLIC
X-MICROSOFT-CDO-ALLDAYEVENT:TRUE
DTSTAMP:20260423T153125Z
END:VEVENT
BEGIN:VEVENT
UID:69ea3b4de75c9
DTSTART;TZID=America/Vancouver:20260520T190000
SEQUENCE:0
TRANSP:TRANSPARENT
DTEND;TZID=America/Vancouver:20260520T200000
URL:https://yale.abbyschools.ca/events/pac-agm-0
SUMMARY:PAC - AGM
CLASS:PUBLIC
DTSTAMP:20260423T153125Z
END:VEVENT
BEGIN:VEVENT
UID:69ea3b4de917b
DTSTART;TZID=America/Vancouver:20260415T190000
SEQUENCE:0
TRANSP:TRANSPARENT
DTEND;TZID=America/Vancouver:20260415T200000
URL:https://yale.abbyschools.ca/events/pac-meeting-250
SUMMARY:PAC MEETING
CLASS:PUBLIC
DTSTAMP:20260423T153125Z
END:VEVENT
BEGIN:VEVENT
UID:69ea3b4deaa97
DTSTART;VALUE=DATE:20260305
SEQUENCE:0
TRANSP:TRANSPARENT
DTEND;VALUE=DATE:20260306
URL:https://yale.abbyschools.ca/events/gr-9-immunization-those-who-missed
SUMMARY:GR. 9 IMMUNIZATION FOR THOSE WHO MISSED
CLASS:PUBLIC
X-MICROSOFT-CDO-ALLDAYEVENT:TRUE
DTSTAMP:20260423T153125Z
END:VEVENT
BEGIN:VEVENT
UID:69ea3b4dec2bd
DTSTART;VALUE=DATE:20260226
SEQUENCE:0
TRANSP:TRANSPARENT
DTEND;VALUE=DATE:20260227
URL:https://yale.abbyschools.ca/events/gr-9-immunization-0
SUMMARY:GR. 9 IMMUNIZATION
CLASS:PUBLIC
X-MICROSOFT-CDO-ALLDAYEVENT:TRUE
DTSTAMP:20260423T153125Z
END:VEVENT
BEGIN:VEVENT
UID:69ea3b4deda28
DTSTART;VALUE=DATE:20250701
SEQUENCE:0
TRANSP:TRANSPARENT
DTEND;VALUE=DATE:20250702
URL:https://yale.abbyschools.ca/events/canada-day-11
SUMMARY:CANADA DAY
CLASS:PUBLIC
X-MICROSOFT-CDO-ALLDAYEVENT:TRUE
DTSTAMP:20260423T153125Z
END:VEVENT
BEGIN:VEVENT
UID:69ea3b4def019
DTSTART;VALUE=DATE:20260701
SEQUENCE:0
TRANSP:TRANSPARENT
DTEND;VALUE=DATE:20260702
URL:https://yale.abbyschools.ca/events/canada-day-11
SUMMARY:CANADA DAY
CLASS:PUBLIC
X-MICROSOFT-CDO-ALLDAYEVENT:TRUE
DTSTAMP:20260423T153125Z
END:VEVENT
END:VCALENDAR